BEGIN:VCALENDAR
VERSION:2.0
PRODID:-//ChamberMaster//Event Calendar 2.0//EN
METHOD:PUBLISH
X-PUBLISHED-TTL:P3D
REFRESH-INTERVAL:P3D
CALSCALE:GREGORIAN
BEGIN:VEVENT
DTSTART:20110713T210000Z
DTEND:20110713T220000Z
X-MICROSOFT-CDO-ALLDAYEVENT:FALSE
SUMMARY:Ribbon Cutting for The Event Center at Church Ranch
DESCRIPTION:We are an event venue perfect for company meetings and parties\, weddings\, family events\, and more!  We offer a rustic Colorado feel in our 7\,000 square foot facility (which includes a 35 foot marble-top bar & 20 foot high wooden beams inside)\, with our beautiful outdoor gardens\, waterfalls\, and pathways.
X-ALT-DESC;FMTTYPE=text/html:<em><span style="color: #1f497d"><span style="font-size: medium"><span style="font-family: calibri">We are an event venue perfect for company meetings and parties\, weddings\, family events\, and more!&nbsp\; We offer a rustic Colorado feel in our 7\,000 square foot facility (which includes a 35 foot marble-top bar &amp\; 20 foot high wooden beams inside)\, with our beautiful outdoor gardens\, waterfalls\, and pathways.</span></span></span></em><br />\n
LOCATION:10200 Wadsworth Blvd. Westminster\, CO 80021
UID:e.641.1480
SEQUENCE:3
DTSTAMP:20260420T051203Z
URL:http://business.broomfieldchamber.com/events/details/ribbon-cutting-for-the-event-center-at-church-ranch-07-13-2011-1480
END:VEVENT

END:VCALENDAR
