BEGIN:VCALENDAR
VERSION:2.0
PRODID:-//ChamberMaster//Event Calendar 2.0//EN
METHOD:PUBLISH
X-PUBLISHED-TTL:P3D
REFRESH-INTERVAL:P3D
CALSCALE:GREGORIAN
BEGIN:VEVENT
DTSTART:20100722T180000Z
DTEND:20100722T190000Z
X-MICROSOFT-CDO-ALLDAYEVENT:FALSE
SUMMARY:Ribbon Cutting for The Thread Shed
DESCRIPTION:Ribbon Cutting for The Thread Shed Custom Embroidery Lunch will be provided
X-ALT-DESC;FMTTYPE=text/html:<div>Ribbon Cutting for The Thread Shed Custom Embroidery</div><div>&nbsp\;</div><div>Lunch will be provided</div>
LOCATION:4940 Iris St.Wheatridge
UID:e.641.1099
SEQUENCE:3
DTSTAMP:20260420T233041Z
URL:http://business.broomfieldchamber.com/events/details/ribbon-cutting-for-the-thread-shed-07-22-2010-1099
END:VEVENT

END:VCALENDAR
