BEGIN:VCALENDAR
VERSION:2.0
PRODID:-//ChamberMaster//Event Calendar 2.0//EN
METHOD:PUBLISH
X-PUBLISHED-TTL:P3D
REFRESH-INTERVAL:P3D
CALSCALE:GREGORIAN
BEGIN:VEVENT
DTSTART:20110506T220000Z
DTEND:20110506T230000Z
X-MICROSOFT-CDO-ALLDAYEVENT:FALSE
SUMMARY:Ribbon Cutting for The Women's Health Group\, P.C.
DESCRIPTION:The Women's Health Group\, P.C. is here for you from your first hormones to your last hormones and every stage between. \n\n	Since 1994\, the physicians have delivered more than babies\; they deliver compassionate\, skilled care based on progressive yet time-tested procedures.\n\n	Lafayette office: 303-665-6016
X-ALT-DESC;FMTTYPE=text/html:<p>\n	<em><span style="color: black"><span style="font-size: medium">The Women&#39\;s Health Group\, P.C. is here for you from your first hormones to your last hormones and every stage&nbsp\;between.&nbsp\;<br />\n	Since 1994\, the physicians&nbsp\;have delivered more than babies\; they deliver compassionate\, skilled care&nbsp\;based on&nbsp\;progressive yet time-tested procedures.<br />\n	Lafayette office:&nbsp\;303-665-6016</span></span></em></p>\n
LOCATION:300 Exempla Circle\, Suite 470\, Lafayette\, CO 80026
UID:e.641.1440
SEQUENCE:3
DTSTAMP:20260420T080859Z
URL:http://business.broomfieldchamber.com/events/details/ribbon-cutting-for-the-women-s-health-group-p-c-05-06-2011-1440
END:VEVENT

END:VCALENDAR
