BEGIN:VCALENDAR
VERSION:2.0
PRODID:-//ChamberMaster//Event Calendar 2.0//EN
METHOD:PUBLISH
X-PUBLISHED-TTL:P3D
REFRESH-INTERVAL:P3D
CALSCALE:GREGORIAN
BEGIN:VEVENT
DTSTART:20101202T180000Z
DTEND:20101202T190000Z
X-MICROSOFT-CDO-ALLDAYEVENT:FALSE
SUMMARY:Ribbon Cutting for Thunder Baseball
DESCRIPTION:
X-ALT-DESC;FMTTYPE=text/html:
LOCATION:6900 W. 117th Ave Broomfield\, CO 80020 From Main Street\, West on 117th and south on Quay. In the Habitat for Humanity bldg. Entrance on Quay Way
UID:e.641.1228
SEQUENCE:3
DTSTAMP:20260420T155353Z
URL:http://business.broomfieldchamber.com/events/details/ribbon-cutting-for-thunder-baseball-12-02-2010-1228
END:VEVENT

END:VCALENDAR
