BEGIN:VCALENDAR
VERSION:2.0
PRODID:-//ChamberMaster//Event Calendar 2.0//EN
METHOD:PUBLISH
X-PUBLISHED-TTL:P3D
REFRESH-INTERVAL:P3D
CALSCALE:GREGORIAN
BEGIN:VEVENT
DTSTART:20120327T153000Z
DTEND:20120327T163000Z
X-MICROSOFT-CDO-ALLDAYEVENT:FALSE
SUMMARY:Ribbon Cutting for Time For You Organizing
DESCRIPTION:Time For You ORGANIZING specializes in creating custom organizational systems for homes and home offices. We can relieve the overwhelming feelings of the lack of time and space. We work with busy people and their families to make their lives easier. We are passionate about creating solutions in homes that support function needed for life and create beauty needed for living.
X-ALT-DESC;FMTTYPE=text/html:<span style="font-size: 14px"><span style="font-family: verdana">Time For You ORGANIZING specializes in creating custom organizational systems for homes and home offices. We can relieve the overwhelming feelings of the lack of time and space. We work with busy people and their families to make their lives easier. We are passionate about creating solutions in homes that support function needed for life and create beauty needed for living.</span></span><br />\n
LOCATION:Broomfield Chamber 2095 W. 6th Ave Broomfield\, CO 80020
UID:e.641.3499
SEQUENCE:3
DTSTAMP:20260419T193451Z
URL:http://business.broomfieldchamber.com/events/details/ribbon-cutting-for-time-for-you-organizing-03-27-2012-3499
END:VEVENT

END:VCALENDAR
