BEGIN:VCALENDAR
VERSION:2.0
PRODID:-//ChamberMaster//Event Calendar 2.0//EN
METHOD:PUBLISH
X-PUBLISHED-TTL:P3D
REFRESH-INTERVAL:P3D
CALSCALE:GREGORIAN
BEGIN:VEVENT
DTSTART:20100407T180000Z
DTEND:20100407T190000Z
X-MICROSOFT-CDO-ALLDAYEVENT:FALSE
SUMMARY:Ribbon Cutting for Tingling Spices\, LLC
DESCRIPTION:Ribbon Cutting for Tingling Spices\, LLC
X-ALT-DESC;FMTTYPE=text/html:<div>Ribbon Cutting for Tingling Spices\, LLC</div>
LOCATION:Broomfield Chamber of CommerceTroy Centre Conference Room2095 W. 6th AvenueBroomfield\, CO 80020
UID:e.641.597
SEQUENCE:3
DTSTAMP:20260421T040814Z
URL:http://business.broomfieldchamber.com/events/details/ribbon-cutting-for-tingling-spices-llc-04-07-2010-597
END:VEVENT

END:VCALENDAR
