BEGIN:VCALENDAR
VERSION:2.0
PRODID:-//ChamberMaster//Event Calendar 2.0//EN
METHOD:PUBLISH
X-PUBLISHED-TTL:P3D
REFRESH-INTERVAL:P3D
CALSCALE:GREGORIAN
BEGIN:VEVENT
DTSTART:20110405T173000Z
DTEND:20110405T183000Z
X-MICROSOFT-CDO-ALLDAYEVENT:FALSE
SUMMARY:Ribbon Cutting for Tobi Hunt Events
DESCRIPTION:Everyone Welcome to attend!\n\n	\n\n	Tobi Hunt had over 22 years' experience in banking and finance. She recently left her corporate job to start her own event planning company called Tobi Hunt Events\, LLC. She loves to partner with local nonprofit local organizations to raise money for their worthy causes.Tobi Hunt Events is an event planning company that organizes trade shows\, networking events and expositions to help women connect to other women\, grow and market their businesses\, and form power partnerships. She is currently organizing her second annual Dynamite Divas Spring Women's Expo on June 10 and 11th. Check out her website for her upcoming events at  www.tobihuntevents.com  or call (303)926-4304.
X-ALT-DESC;FMTTYPE=text/html:<p>\n	<span style="font-size: medium"><span style="font-family: calibri"><span style="font-size: 16px"><strong>Everyone Welcome to attend!</strong></span><br />\n	<br />\n	Tobi Hunt had over 22 years&rsquo\; experience in banking and finance. She recently left her corporate job to start her own event planning company called Tobi Hunt Events\, LLC. She loves to partner with local nonprofit local organizations to raise money for their worthy causes.Tobi Hunt Events is an event planning company that organizes trade shows\, networking events and expositions to help women connect to other women\, grow and market their businesses\, and form power partnerships. She is currently organizing her second annual Dynamite Divas Spring Women&rsquo\;s Expo on June 10 and 11<sup><span style="font-size: small">th</span></sup></span>. Check out her website for her upcoming events at&nbsp\; </span><a href="http://www.tobihuntevents.com"><span style="font-size: medium"><span style="font-family: calibri">www.tobihuntevents.com</span></span></a><u><span style="font-size: medium"><span style="font-family: calibri">&nbsp\; </span></span></u><span style="font-size: medium"><span style="font-family: calibri"><span style="text-decoration: none\; text-underline: none"><span style="color: windowtext">or call (303)926-4304.</span></span></span></span></p>\n
LOCATION:Chamber Offices Refreshments and snacks will be provided
UID:e.641.1364
SEQUENCE:3
DTSTAMP:20260420T093459Z
URL:http://business.broomfieldchamber.com/events/details/ribbon-cutting-for-tobi-hunt-events-04-05-2011-1364
END:VEVENT

END:VCALENDAR
