BEGIN:VCALENDAR
VERSION:2.0
PRODID:-//ChamberMaster//Event Calendar 2.0//EN
METHOD:PUBLISH
X-PUBLISHED-TTL:P3D
REFRESH-INTERVAL:P3D
CALSCALE:GREGORIAN
BEGIN:VEVENT
DTSTART:20111020T210000Z
DTEND:20111020T220000Z
X-MICROSOFT-CDO-ALLDAYEVENT:FALSE
SUMMARY:Ribbon Cutting for Toll Brothers
DESCRIPTION:Toll Brothers\, the nation's leading builder of luxury homes\, was ranked #1 in 2011 and 2010 in Financial Soundness\, Long-Term Investment\, and Quality of Products/Services in Fortune magazine's annual World's Most Admired Companies survey in the home building category. The Company has also won America's Best Builder\, the National Housing Quality Award\, and National Builder of the Year.\n\n\n\nRefreshments will be provided.
X-ALT-DESC;FMTTYPE=text/html:<span style="font-family: verdana"><span style="font-size: 14px"><em>Toll Brothers\, the nation&#39\;s leading builder of luxury homes\, was ranked #1 in 2011 and 2010 in Financial Soundness\, Long-Term Investment\, and Quality of Products/Services in Fortune magazine&rsquo\;s annual World&rsquo\;s Most Admired Companies survey in the home building category. The Company has also won America&rsquo\;s Best Builder\, the National Housing Quality Award\, and National Builder of the Year.</em></span></span><br />\n<br />\nRefreshments will be provided. 
LOCATION:1680 Tiverton Ave. Broomfield\, CO 80023
UID:e.641.2905
SEQUENCE:3
DTSTAMP:20260420T005923Z
URL:http://business.broomfieldchamber.com/events/details/ribbon-cutting-for-toll-brothers-10-20-2011-2905
END:VEVENT

END:VCALENDAR
