BEGIN:VCALENDAR
VERSION:2.0
PRODID:-//ChamberMaster//Event Calendar 2.0//EN
METHOD:PUBLISH
X-PUBLISHED-TTL:P3D
REFRESH-INTERVAL:P3D
CALSCALE:GREGORIAN
BEGIN:VEVENT
DTSTART:20120301T230000Z
DTEND:20120302T000000Z
X-MICROSOFT-CDO-ALLDAYEVENT:FALSE
SUMMARY:Ribbon Cutting for Tortoise & Hare Financial Affairs
DESCRIPTION:I am dedicated to rebuilding communities on the foundation of financial education. Much of the population is unable\, or failing\, to achieve their financial goals because they lack an understanding of money's basic laws and principles. I teach concepts to overcome any financial hardship and excel in any economic situation.
X-ALT-DESC;FMTTYPE=text/html:<span style="font-size:14px\;"><span style="font-family: verdana\;"><span style="color: black\;">I am dedicated to rebuilding communities on the foundation of financial education. Much of the population is unable\, or failing\, to achieve their financial goals because they lack an understanding of money&#39\;s basic laws and principles. I teach concepts to overcome any financial hardship and excel in any economic situation.</span></span></span>
LOCATION:Broomfield Chamber Business Resource Center 2095 W. 6th Ave\, Suite 109 Broomfield\, CO 80020
UID:e.641.3208
SEQUENCE:3
DTSTAMP:20260419T175556Z
URL:http://business.broomfieldchamber.com/events/details/ribbon-cutting-for-tortoise-hare-financial-affairs-03-01-2012-3208
END:VEVENT

END:VCALENDAR
