BEGIN:VCALENDAR
VERSION:2.0
PRODID:-//ChamberMaster//Event Calendar 2.0//EN
METHOD:PUBLISH
X-PUBLISHED-TTL:P3D
REFRESH-INTERVAL:P3D
CALSCALE:GREGORIAN
BEGIN:VEVENT
DTSTART:20110525T220000Z
DTEND:20110525T230000Z
X-MICROSOFT-CDO-ALLDAYEVENT:FALSE
SUMMARY:Ribbon Cutting for Western Air Flight Academy
DESCRIPTION:Ribbon Cutting for\n\nWestern Air Flight Academy\n\n\n\nWestern Air Flight Academywas started in 2003 by Jim Burr\, who is the Chairman of the Board. Since that time\, 100's of students have become private pilots\, commercial pilots and airline transport pilots. Western Air Flight Academy\, the premier flight-training center in Colorado is conveniently located at Rocky Mountain Metropolitan (Metro) Airport in Broomfield. Currently the Western Air staff represents just over 157 years and nearly 75\,000 hours of flight experience. At Western Air Flight Academy\, a top priority is the safety and reliability of our planes\; we take the time and effort to be sure we exceed all safety standards. Visit us at www.westernairflightacademy.com.\n\n\n\nRefreshments will be provided
X-ALT-DESC;FMTTYPE=text/html:<span style="font-size: 14px">Ribbon Cutting for<br />\nWestern Air Flight Academy<br />\n<br />\n<strong><span style="font-size: 11pt"><span style="font-family: calibri\, sans-serif">Western Air Flight Academy</span></span></strong><span style="font-size: 11pt"><span style="font-family: calibri\, sans-serif">was started in 2003 by Jim Burr\, who is the Chairman of the Board. Since that time\, 100&rsquo\;s of students have become private pilots\, commercial pilots and airline transport pilots. Western Air Flight Academy\, the premier flight-training center in Colorado is conveniently located at Rocky Mountain Metropolitan (Metro)&nbsp\;Airport in Broomfield.&nbsp\;Currently the Western Air staff represents just over 157 years and nearly 75\,000 hours of flight experience. At Western Air Flight Academy\, a top priority is the safety and reliability of our planes\; we take the time and effort to be sure we exceed all safety standards. Visit us at </span><a href="http://www.westernairflightacademy.com"><span style="color: #0000ff">www.westernairflightacademy.com</span></a></span>.</span><br />\n<br />\nRefreshments will be provided<br />\n
LOCATION:11915 Airport Way Broomfield\, CO 80021
UID:e.641.1357
SEQUENCE:3
DTSTAMP:20260420T080024Z
URL:http://business.broomfieldchamber.com/events/details/ribbon-cutting-for-western-air-flight-academy-05-25-2011-1357
END:VEVENT

END:VCALENDAR
