BEGIN:VCALENDAR
VERSION:2.0
PRODID:-//ChamberMaster//Event Calendar 2.0//EN
METHOD:PUBLISH
X-PUBLISHED-TTL:P3D
REFRESH-INTERVAL:P3D
CALSCALE:GREGORIAN
BEGIN:VEVENT
DTSTART:20110118T200000Z
DTEND:20110118T210000Z
X-MICROSOFT-CDO-ALLDAYEVENT:FALSE
SUMMARY:Ribbon Cutting for Widget\, Inc.
DESCRIPTION:Ribbon Cutting for Widget\, Inc.\n\nat the Chamber office
X-ALT-DESC;FMTTYPE=text/html:Ribbon Cutting for Widget\, Inc.<br />\nat the Chamber office
LOCATION:Chamber Conference Room
UID:e.641.1269
SEQUENCE:3
DTSTAMP:20260420T155340Z
URL:http://business.broomfieldchamber.com/events/details/ribbon-cutting-for-widget-inc-01-18-2011-1269
END:VEVENT

END:VCALENDAR
