BEGIN:VCALENDAR
VERSION:2.0
PRODID:-//ChamberMaster//Event Calendar 2.0//EN
METHOD:PUBLISH
X-PUBLISHED-TTL:P3D
REFRESH-INTERVAL:P3D
CALSCALE:GREGORIAN
BEGIN:VEVENT
DTSTART:20100513T150000Z
DTEND:20100514T040000Z
X-MICROSOFT-CDO-ALLDAYEVENT:FALSE
SUMMARY:Ribbon Cutting/Ground Breaking for Fairwind at McKay Landing
DESCRIPTION:
X-ALT-DESC;FMTTYPE=text/html:
LOCATION:SW Corner of 144th Ave and Zuni in BroomfieldIn case the weather is bad \, meet at 14300 Waterside Lane Unit U-1\, Broomfield\, CO 80023
UID:e.641.1070
SEQUENCE:3
DTSTAMP:20260421T040828Z
URL:http://business.broomfieldchamber.com/events/details/ribbon-cutting-ground-breaking-for-fairwind-at-mckay-landing-05-13-2010-1070
END:VEVENT

END:VCALENDAR
