BEGIN:VCALENDAR
VERSION:2.0
PRODID:-//ChamberMaster//Event Calendar 2.0//EN
METHOD:PUBLISH
X-PUBLISHED-TTL:P3D
REFRESH-INTERVAL:P3D
CALSCALE:GREGORIAN
BEGIN:VEVENT
DTSTART:20100614T170000Z
DTEND:20100614T180000Z
X-MICROSOFT-CDO-ALLDAYEVENT:FALSE
SUMMARY:Ribbon Cutting Hyatt Summerfield Suites
DESCRIPTION:
X-ALT-DESC;FMTTYPE=text/html:
LOCATION:13351 West Midway Blvd.Broomfield\, Colorado 80020(720) 890-4811 Main
UID:e.641.1074
SEQUENCE:3
DTSTAMP:20260421T023201Z
URL:http://business.broomfieldchamber.com/events/details/ribbon-cutting-hyatt-summerfield-suites-06-14-2010-1074
END:VEVENT

END:VCALENDAR
