BEGIN:VCALENDAR
VERSION:2.0
PRODID:-//ChamberMaster//Event Calendar 2.0//EN
METHOD:PUBLISH
X-PUBLISHED-TTL:P3D
REFRESH-INTERVAL:P3D
CALSCALE:GREGORIAN
BEGIN:VEVENT
DTSTART:20100519T133000Z
DTEND:20100519T140000Z
X-MICROSOFT-CDO-ALLDAYEVENT:FALSE
SUMMARY:Ribbon Cutting Walmart
DESCRIPTION:Ribbon Cutting at Walmart
X-ALT-DESC;FMTTYPE=text/html:<div>Ribbon Cutting at&nbsp\;Walmart</div>
LOCATION:4651 W. 121st AveBroomfield\, CO 80020
UID:e.641.1026
SEQUENCE:3
DTSTAMP:20260421T040632Z
URL:http://business.broomfieldchamber.com/events/details/ribbon-cutting-walmart-05-19-2010-1026
END:VEVENT

END:VCALENDAR
