BEGIN:VCALENDAR
VERSION:2.0
PRODID:-//ChamberMaster//Event Calendar 2.0//EN
METHOD:PUBLISH
X-PUBLISHED-TTL:P3D
REFRESH-INTERVAL:P3D
CALSCALE:GREGORIAN
BEGIN:VEVENT
DTSTART:20110214T190000Z
DTEND:20110214T200000Z
X-MICROSOFT-CDO-ALLDAYEVENT:FALSE
SUMMARY:Ribbon Cuttng for Herb's Quality Meats
DESCRIPTION:Ribbon Cutting for\n\nHerb's Meats!\n\n\n\nSamples will be provided.
X-ALT-DESC;FMTTYPE=text/html:Ribbon Cutting for<br />\nHerb&#39\;s Meats!<br />\n<br />\nSamples will be provided.
LOCATION:Herb's Quality Meats 1000 Depot Hill Rd.\, Unit A\; Broomfield\, CO 80020
UID:e.641.1264
SEQUENCE:3
DTSTAMP:20260420T130012Z
URL:http://business.broomfieldchamber.com/events/details/ribbon-cuttng-for-herb-s-quality-meats-02-14-2011-1264
END:VEVENT

END:VCALENDAR
