BEGIN:VCALENDAR
VERSION:2.0
PRODID:-//ChamberMaster//Event Calendar 2.0//EN
METHOD:PUBLISH
X-PUBLISHED-TTL:P3D
REFRESH-INTERVAL:P3D
CALSCALE:GREGORIAN
BEGIN:VEVENT
DTSTART:20110417T003000Z
DTEND:20110417T033000Z
X-MICROSOFT-CDO-ALLDAYEVENT:FALSE
SUMMARY:Ring of Fire 40: Backlash @ 1STBANK Center
DESCRIPTION:
X-ALT-DESC;FMTTYPE=text/html:
LOCATION:1STBANK Center
UID:e.641.1397
SEQUENCE:3
DTSTAMP:20260420T093556Z
URL:http://business.broomfieldchamber.com/events/details/ring-of-fire-40-backlash-1stbank-center-04-16-2011-1397
END:VEVENT

END:VCALENDAR
