BEGIN:VCALENDAR
VERSION:2.0
PRODID:-//ChamberMaster//Event Calendar 2.0//EN
METHOD:PUBLISH
X-PUBLISHED-TTL:P3D
REFRESH-INTERVAL:P3D
CALSCALE:GREGORIAN
BEGIN:VEVENT
DTSTART;VALUE=DATE:20110401
DTEND;VALUE=DATE:20110402
TRANSP:TRANSPARENT
X-MICROSOFT-CDO-ALLDAYEVENT:TRUE
SUMMARY:"Rocking at Bar Louie"
DESCRIPTION:We are opening our private dining room to kick off the Baseball Season!\n\nJoin us opening day before\, during\, or after the game!\n\n\n\nBean bag toss\, giveaways\, drink and food specials\, and of course the game!\n\nAll ages welcome
X-ALT-DESC;FMTTYPE=text/html:We are opening our private dining room to kick off the Baseball Season!\n<br>Join us opening day before\, during\, or after the game!\n<br>\n<br>Bean bag toss\, giveaways\, drink and food specials\, and of course the game!\n<br>All ages welcome
LOCATION:Bar Louie Westminster
UID:e.641.1402
SEQUENCE:3
DTSTAMP:20260420T093318Z
URL:http://business.broomfieldchamber.com/events/details/rocking-at-bar-louie-04-01-2011-1402
END:VEVENT

END:VCALENDAR
