BEGIN:VCALENDAR
VERSION:2.0
PRODID:-//ChamberMaster//Event Calendar 2.0//EN
METHOD:PUBLISH
X-PUBLISHED-TTL:P3D
REFRESH-INTERVAL:P3D
CALSCALE:GREGORIAN
BEGIN:VEVENT
DTSTART:20110827T000000Z
DTEND:20110828T230000Z
X-MICROSOFT-CDO-ALLDAYEVENT:FALSE
SUMMARY:Rocky Mountain Airshow
DESCRIPTION:CSA hosts a family-oriented weekend at the Rocky Mountain Airshow.  The Airshow is attended by up to 400 aircraft from around the country. During the three-day event\, the FAA and industry leaders present over 20 educational and safety forums. Building workshops for adults (welding\, sheet metal\, riveting techniques\, etc.) and youth (ESTES model rocketry\, balsa aircraft\, rib building\, etc.) help spark a new interest in learning and aviation. Activities designed specifically for young people are found in the Adventure Zone.\n\n\n\nSpace has been allocated for up to 100 vendors in fields including technology\, safety\, construction and special interests. Various food vendors will be onsite providing a wide range of meals and sundries. One of the highlights for almost everyone who attends is the daily Airshow which includes exciting aviation performers - something for everyone!\n\n\n\nUp to 35\,000 people are expected to attend the 2011 Airshow as we continue to expand our offerings and grow in popularity. The RMAS/RMRFI is now in its 32nd year in the Denver Metro area and third year at the Rocky Mountain Metropolitan Airport. Previously\, the event was held at Front Range Airport for five years and Vance Brand Regional Airport in Longmont\, Colorado for 10 years. The Rocky Mountain Metropolitan Airport provides exceptional access to the Denver Metropolitan area with a diverse mix of urban\, rural and mountain communities. Its placement along the Denver-Boulder corridor positions the airport on a major business and technology thoroughfare in Colorado.
X-ALT-DESC;FMTTYPE=text/html:CSA hosts a family-oriented weekend at the Rocky Mountain Airshow.&nbsp\; The Airshow is attended by up to 400 aircraft from around the country. During the three-day event\, the FAA and industry leaders present over 20 educational and safety forums. Building workshops for adults (welding\, sheet metal\, riveting techniques\, etc.) and youth (ESTES model rocketry\, balsa aircraft\, rib building\, etc.) help spark a new interest in learning and aviation. Activities designed specifically for young people are found in the Adventure Zone.<br />\n<br />\nSpace has been allocated for up to 100 vendors in fields including technology\, safety\, construction and special interests. Various food vendors will be onsite providing a wide range of meals and sundries. One of the highlights for almost everyone who attends is the daily Airshow which includes exciting aviation performers - something for everyone!<br />\n<br />\nUp to 35\,000 people are expected to attend the 2011 Airshow as we continue to expand our offerings and grow in popularity. The RMAS/RMRFI is now in its 32<sup>nd</sup> year in the Denver Metro area and third year at the Rocky Mountain Metropolitan Airport. Previously\, the event was held at Front Range Airport for five years and Vance Brand Regional Airport in Longmont\, Colorado for 10 years. The Rocky Mountain Metropolitan Airport provides exceptional access to the Denver Metropolitan area with a diverse mix of urban\, rural and mountain communities. Its placement along the Denver-Boulder corridor positions the airport on a major business and technology thoroughfare in Colorado.
LOCATION:Rocky Mountain Metropolitan Airport
UID:e.641.2869
SEQUENCE:3
DTSTAMP:20260420T050907Z
URL:http://business.broomfieldchamber.com/events/details/rocky-mountain-airshow-08-26-2011-2869
END:VEVENT

END:VCALENDAR
