BEGIN:VCALENDAR
VERSION:2.0
PRODID:-//ChamberMaster//Event Calendar 2.0//EN
METHOD:PUBLISH
X-PUBLISHED-TTL:P3D
REFRESH-INTERVAL:P3D
CALSCALE:GREGORIAN
BEGIN:VEVENT
DTSTART:20110213T003000Z
DTEND:20110213T060000Z
X-MICROSOFT-CDO-ALLDAYEVENT:FALSE
SUMMARY:Safehouse Alliance 30th Annual Chocolate Lover's Fling
DESCRIPTION:Enjoy chocolate\, chocolate and more chocolate from some of the area's most outstanding chocolatiers\; have fun bidding on a huge variety of auction items\; feast on the buffet dinner prepared by talented chefs\; kick up your heels to live music\; and be inspired by the transformation in the lives of survivors of domestic violence and in our community as together we work for healing\, hope and opportunity! \n\n\n\nIn addition to Fling Fun\, at the Pre-Fling Party you and your sweetheart will get to enjoy wine expertly--and entertainingly--paired with exquisite handmade chocolates by Julie Pech\, author of The Chocolate Therapist: A User's Guide to the Extraordinary Health Benefits of Chocolate.  Based in Denver\, Julie travels internationally speaking about and demonstrating the goodness of chocolate.  You will also have the opportunity to place first bids in the Silent Auction and take advantage of Buy It Now auction items before the crowd arrives!  Pre-Fling Party is from 5:30-6:30.\n\n\n\nJoin us for this very special event and help raise much needed funds for SPAN's programs and services to support survivors of domestic violence and their children.
X-ALT-DESC;FMTTYPE=text/html:Enjoy chocolate\, chocolate and more chocolate from some of the area's most outstanding chocolatiers\; have fun bidding on a huge variety of auction items\; feast on the buffet dinner prepared by talented chefs\; kick up your heels to live music\; and be inspired by the transformation in the lives of survivors of domestic violence and in our community as together we work for healing\, hope and opportunity! \n<br>\n<br>In addition to Fling Fun\, at the Pre-Fling Party you and your sweetheart will get to enjoy wine expertly--and entertainingly--paired with exquisite handmade chocolates by Julie Pech\, author of The Chocolate Therapist: A User's Guide to the Extraordinary Health Benefits of Chocolate.  Based in Denver\, Julie travels internationally speaking about and demonstrating the goodness of chocolate.  You will also have the opportunity to place first bids in the Silent Auction and take advantage of Buy It Now auction items before the crowd arrives!  Pre-Fling Party is from 5:30-6:30.\n<br>\n<br>Join us for this very special event and help raise much needed funds for SPAN's programs and services to support survivors of domestic violence and their children.\n<br>\n<br>
LOCATION:UCAR Event Center 3080 Center Green Drive Boulder\, CO 80301
UID:e.641.1242
SEQUENCE:3
DTSTAMP:20260420T131705Z
URL:http://business.broomfieldchamber.com/events/details/safehouse-alliance-30th-annual-chocolate-lover-s-fling-02-12-2011-1242
END:VEVENT

END:VCALENDAR
