BEGIN:VCALENDAR
VERSION:2.0
PRODID:-//ChamberMaster//Event Calendar 2.0//EN
METHOD:PUBLISH
X-PUBLISHED-TTL:P3D
REFRESH-INTERVAL:P3D
CALSCALE:GREGORIAN
BEGIN:VEVENT
DTSTART:20120602T160000Z
DTEND:20120602T200000Z
X-MICROSOFT-CDO-ALLDAYEVENT:FALSE
SUMMARY:SALT ELECTRIC @ Trails Day
DESCRIPTION:Come see us at this family fun filled day
X-ALT-DESC;FMTTYPE=text/html:Come see us at this family fun filled day
LOCATION:Majestic View Nature Center\, 7030 Garrison St \, Arvada
UID:e.641.4181
SEQUENCE:3
DTSTAMP:20260419T144554Z
URL:http://business.broomfieldchamber.com/events/details/salt-electric-trails-day-06-02-2012-4181
END:VEVENT

END:VCALENDAR
