BEGIN:VCALENDAR
VERSION:2.0
PRODID:-//ChamberMaster//Event Calendar 2.0//EN
METHOD:PUBLISH
X-PUBLISHED-TTL:P3D
REFRESH-INTERVAL:P3D
CALSCALE:GREGORIAN
BEGIN:VEVENT
DTSTART;VALUE=DATE:20110505
DTEND;VALUE=DATE:20110506
TRANSP:TRANSPARENT
X-MICROSOFT-CDO-ALLDAYEVENT:TRUE
SUMMARY:Savings Event at Coldwater Creek
DESCRIPTION:
X-ALT-DESC;FMTTYPE=text/html:
LOCATION:1 w. flatiron cir #2156\, Broomfield\, co 80021 Flatirons Mall
UID:e.641.1464
SEQUENCE:3
DTSTAMP:20260420T075807Z
URL:http://business.broomfieldchamber.com/events/details/savings-event-at-coldwater-creek-05-05-2011-1464
END:VEVENT

END:VCALENDAR
