BEGIN:VCALENDAR
VERSION:2.0
PRODID:-//ChamberMaster//Event Calendar 2.0//EN
METHOD:PUBLISH
X-PUBLISHED-TTL:P3D
REFRESH-INTERVAL:P3D
CALSCALE:GREGORIAN
BEGIN:VEVENT
DTSTART:20110905T010000Z
DTEND:20110905T040000Z
X-MICROSOFT-CDO-ALLDAYEVENT:FALSE
SUMMARY:Selena Gomez @ 1STBANK Center
DESCRIPTION:
X-ALT-DESC;FMTTYPE=text/html:
LOCATION:1STBANK Center
UID:e.641.1423
SEQUENCE:3
DTSTAMP:20260420T021424Z
URL:http://business.broomfieldchamber.com/events/details/selena-gomez-1stbank-center-09-04-2011-1423
END:VEVENT

END:VCALENDAR
