BEGIN:VCALENDAR
VERSION:2.0
PRODID:-//ChamberMaster//Event Calendar 2.0//EN
METHOD:PUBLISH
X-PUBLISHED-TTL:P3D
REFRESH-INTERVAL:P3D
CALSCALE:GREGORIAN
BEGIN:VEVENT
DTSTART:20110219T020000Z
DTEND:20110219T040000Z
X-MICROSOFT-CDO-ALLDAYEVENT:FALSE
SUMMARY:Sherefe Concert
DESCRIPTION:Music from The Balkans\, Greece\, Turkey\, and the Arab diaspora sung in native tongues and performed on traditional instruments.  Rich overlapping traditions distilled by the spirits of musicians and dancers through the ages and across oceans- uniquely presented by one of North America?s most versatile ensembles.  Since 1995\, Sherefe has delighted newcomers and aficionados alike at concerts\, festivals\, weddings and private parties. Cheers! Yasou! Na Zdrave! Fisehatak! Sherefe!
X-ALT-DESC;FMTTYPE=text/html:Music from The Balkans\, Greece\, Turkey\, and the Arab diaspora sung in native tongues and performed on traditional instruments.  Rich overlapping traditions distilled by the spirits of musicians and dancers through the ages and across oceans- uniquely presented by one of North America?s most versatile ensembles.  Since 1995\, Sherefe has delighted newcomers and aficionados alike at concerts\, festivals\, weddings and private parties. Cheers! Yasou! Na Zdrave! Fisehatak! Sherefe!
LOCATION:Broomfield Auditorium
UID:e.641.1319
SEQUENCE:3
DTSTAMP:20260420T124708Z
URL:http://business.broomfieldchamber.com/events/details/sherefe-concert-02-18-2011-1319
END:VEVENT

END:VCALENDAR
