BEGIN:VCALENDAR
VERSION:2.0
PRODID:-//ChamberMaster//Event Calendar 2.0//EN
METHOD:PUBLISH
X-PUBLISHED-TTL:P3D
REFRESH-INTERVAL:P3D
CALSCALE:GREGORIAN
BEGIN:VEVENT
DTSTART:20110212T180000Z
DTEND:20110212T220000Z
X-MICROSOFT-CDO-ALLDAYEVENT:FALSE
SUMMARY:Shopping Event from TopBoutiqueShop.com
DESCRIPTION:This event is not only FREE and Fabulous\, but TopBoutiqueShop.com will be giving away\n\nCASH PRIZES of up to $200.00 each hour!\n\nMust be present to win!\n\nWe will also donate $1.00 to F.I.S.H. (Fellowship In Serving Humanity) of Broomfield for each guest in attendance up to 250.\n\n\n\nYou don't want to miss this very unique\n\nShopping event. It only happens twice a year!\n\n\n\nSo grab a girlfriend\, boyfriend\, spouse or child and make this Valentine's Day one to remember!\n\n\n\nThis Shopping Event\n\nwill showcase over 50 Unique Fashion Designers & Retailers\n\naround the Denver Metro area and will include\n\nFashions for Women of ALL ages!\n\n\n\nUnique Clothing\, jewelry\, jewelry and more jewelry\, hats\, scarves\, handbags\, maybe SHOES and much more!\n\n\n\nIf you are interested in being a vendor at this unforgettable event\, email us at info@topboutiqueshop.com. Space is limited!
X-ALT-DESC;FMTTYPE=text/html:This event is not only FREE and Fabulous\, but TopBoutiqueShop.com will be giving away<br />\nCASH PRIZES of up to $200.00 each hour!<br />\nMust be present to win!<br />\nWe will also donate $1.00 to F.I.S.H. (Fellowship In Serving Humanity) of Broomfield for each guest in attendance up to 250.<br />\n<br />\nYou don&#39\;t want to miss this very unique<br />\nShopping event. It only happens twice a year!<br />\n<br />\nSo grab a girlfriend\, boyfriend\, spouse or child and make this Valentine&#39\;s Day one to remember!<br />\n<br />\nThis Shopping Event<br />\nwill showcase over 50 Unique Fashion Designers &amp\; Retailers<br />\naround the Denver Metro area and will include<br />\nFashions for Women of ALL ages!<br />\n<br />\nUnique Clothing\, jewelry\, jewelry and more jewelry\, hats\, scarves\, handbags\, maybe SHOES and much more!<br />\n<br />\nIf you are interested in being a vendor at this unforgettable event\, email us at info@topboutiqueshop.com. Space is limited!<br />\n<br />\n
LOCATION:Lionsgate Event Center 1055 S. 112th Street (HWY 287) Lafayette\, CO 80026
UID:e.641.1298
SEQUENCE:3
DTSTAMP:20260422T085755Z
URL:http://business.broomfieldchamber.com/events/details/shopping-event-from-topboutiqueshop-com-02-12-2011-1298
END:VEVENT

END:VCALENDAR
