BEGIN:VCALENDAR
VERSION:2.0
PRODID:-//ChamberMaster//Event Calendar 2.0//EN
METHOD:PUBLISH
X-PUBLISHED-TTL:P3D
REFRESH-INTERVAL:P3D
CALSCALE:GREGORIAN
BEGIN:VEVENT
DTSTART:20110312T020000Z
DTEND:20110312T040000Z
X-MICROSOFT-CDO-ALLDAYEVENT:FALSE
SUMMARY:Skean Dubh Concert
DESCRIPTION:Celebrate St Patrick?s Day early with this Celtic Rock band. One of the most enjoyable Acoustic Celtic bands in the Rocky Mountain region. Their music spans centuries with fire-driven instrumentals\, gorgeous slow airs\, Irish pub-songs\, and Scottish ballads surrounded by luxurious world beats.
X-ALT-DESC;FMTTYPE=text/html:Celebrate St Patrick?s Day early with this Celtic Rock band. One of the most enjoyable Acoustic Celtic bands in the Rocky Mountain region. Their music spans centuries with fire-driven instrumentals\, gorgeous slow airs\, Irish pub-songs\, and Scottish ballads surrounded by luxurious world beats.
LOCATION:Broomfield Auditorium
UID:e.641.1322
SEQUENCE:3
DTSTAMP:20260420T110750Z
URL:http://business.broomfieldchamber.com/events/details/skean-dubh-concert-03-11-2011-1322
END:VEVENT

END:VCALENDAR
