BEGIN:VCALENDAR
VERSION:2.0
PRODID:-//ChamberMaster//Event Calendar 2.0//EN
METHOD:PUBLISH
X-PUBLISHED-TTL:P3D
REFRESH-INTERVAL:P3D
CALSCALE:GREGORIAN
BEGIN:VEVENT
DTSTART:20120220T160000Z
DTEND:20120220T200000Z
X-MICROSOFT-CDO-ALLDAYEVENT:FALSE
SUMMARY:Small Business Development Advising
DESCRIPTION:Free one-on-one advising in the areas of business research and marketing\, new business feasibility analysis\, business plan preparation\, finance packaging and other small business topics.\n\n	\n\n	Contact the North Metro Small Business Development Center at 303-460-1032 to schedule your appointemnt today!
X-ALT-DESC;FMTTYPE=text/html:<div>\n	<span style="font-size:16px\;">Free one-on-one advising in the areas of business</span><span style="font-size:16px\;"> research and marketing\, new business feasibility analysis\, business plan</span><span style="font-size: 14pt\;"><span style="font-size:16px\;"> preparation\, finance packaging and other small business topics</span>.</span><br />\n	<br />\n	<span style="font-size:16px\;">Contact the North Metro Small Business Development Center at <strong>303-460-1032</strong> to schedule your appointemnt today!</span></div>\n
LOCATION:2095 W. 6th Avenue in Broomfield
UID:e.641.3237
SEQUENCE:3
DTSTAMP:20260419T193011Z
URL:http://business.broomfieldchamber.com/events/details/small-business-development-advising-02-20-2012-3237
END:VEVENT

END:VCALENDAR
