BEGIN:VCALENDAR
VERSION:2.0
PRODID:-//ChamberMaster//Event Calendar 2.0//EN
METHOD:PUBLISH
X-PUBLISHED-TTL:P3D
REFRESH-INTERVAL:P3D
CALSCALE:GREGORIAN
BEGIN:VEVENT
DTSTART:20110908T210000Z
DTEND:20110908T230000Z
X-MICROSOFT-CDO-ALLDAYEVENT:FALSE
SUMMARY:Social Media Marketing 1010
DESCRIPTION:This is a great workshop introducing you to the world of Social Media Marketing. We are excited to have Marci Whitman from Boomerang Marketing here in Broomfield presenting on this topic. Marci is going to share her extensive knowledge of Social Media Marketing. We will also introduce you to Broomfield' newest community website www.relylocal.com for Broomfield based businesses. Following the workshop\, you will also have time for networking with other business attendees.
X-ALT-DESC;FMTTYPE=text/html:This is a great workshop introducing you to the world of Social Media Marketing. We are excited to have Marci Whitman from Boomerang Marketing here in Broomfield presenting on this topic. Marci is going to share her extensive knowledge of Social Media Marketing. We will also introduce you to Broomfield&#39\; newest community website www.relylocal.com for Broomfield based businesses. Following the workshop\, you will also have time for networking with other business attendees.
LOCATION:Sill- Tehar Ford
UID:e.641.2889
SEQUENCE:3
DTSTAMP:20260420T021553Z
URL:http://business.broomfieldchamber.com/events/details/social-media-marketing-1010-09-08-2011-2889
END:VEVENT

END:VCALENDAR
