BEGIN:VCALENDAR
VERSION:2.0
PRODID:-//ChamberMaster//Event Calendar 2.0//EN
METHOD:PUBLISH
X-PUBLISHED-TTL:P3D
REFRESH-INTERVAL:P3D
CALSCALE:GREGORIAN
BEGIN:VEVENT
DTSTART:20110319T010000Z
DTEND:20110319T030000Z
X-MICROSOFT-CDO-ALLDAYEVENT:FALSE
SUMMARY:Soul Sacrifice Concert
DESCRIPTION:With great passion and precision\, Soul Sacrifice faithfully recreates the music of the legendary band Santana. Featuring burning renditions of Latin-infused rock classics such as Oye Como Va\, Black Magic Woman\, Jingo and Soul Sacrifice\; plus breathtaking delivery of guitar ballads including Europa and Samba Pa Ti\, Soul Sacrifice captures and delivers up the signature multi-cultural sound and spirit that is Santana.
X-ALT-DESC;FMTTYPE=text/html:With great passion and precision\, Soul Sacrifice faithfully recreates the music of the legendary band Santana. Featuring burning renditions of Latin-infused rock classics such as Oye Como Va\, Black Magic Woman\, Jingo and Soul Sacrifice\; plus breathtaking delivery of guitar ballads including Europa and Samba Pa Ti\, Soul Sacrifice captures and delivers up the signature multi-cultural sound and spirit that is Santana.
LOCATION:Broomfield Auditorium
UID:e.641.1323
SEQUENCE:3
DTSTAMP:20260420T110924Z
URL:http://business.broomfieldchamber.com/events/details/soul-sacrifice-concert-03-18-2011-1323
END:VEVENT

END:VCALENDAR
