BEGIN:VCALENDAR
VERSION:2.0
PRODID:-//ChamberMaster//Event Calendar 2.0//EN
METHOD:PUBLISH
X-PUBLISHED-TTL:P3D
REFRESH-INTERVAL:P3D
CALSCALE:GREGORIAN
BEGIN:VEVENT
DTSTART;VALUE=DATE:20100815
DTEND;VALUE=DATE:20100816
TRANSP:TRANSPARENT
X-MICROSOFT-CDO-ALLDAYEVENT:TRUE
SUMMARY:SPAN the Rockies: Cycling for Healing\, Hope and Opportunity
DESCRIPTION:Ride the roads of north Boulder\, up into the scenic Rocky Mountains via Left Hand Canyon\, the Peak to Peak Highway from Ward to Estes Park\, returning to Boulder through Lyons.  This event features three different routes (200K\; 130K\; 75K) to challenge and inspire all levels of riders.  All routes include fully supported aide stations\, SAG wagons and mechanical support.  Proceeds benefit Safehouse Progressive Alliance for Nonviolence.
X-ALT-DESC;FMTTYPE=text/html:Ride the roads of north Boulder\, up into the scenic Rocky Mountains via Left Hand Canyon\, the Peak to Peak Highway from Ward to Estes Park\, returning to Boulder through Lyons.  This event features three different routes (200K\; 130K\; 75K) to challenge and inspire all levels of riders.  All routes include fully supported aide stations\, SAG wagons and mechanical support.  Proceeds benefit Safehouse Progressive Alliance for Nonviolence.
LOCATION:All routes begin and end at Elevations Credit Union\, 2300 55th St\, Boulder.
UID:e.641.1090
SEQUENCE:3
DTSTAMP:20260420T233414Z
URL:http://business.broomfieldchamber.com/events/details/span-the-rockies-cycling-for-healing-hope-and-opportunity-08-15-2010-1090
END:VEVENT

END:VCALENDAR
