BEGIN:VCALENDAR
VERSION:2.0
PRODID:-//ChamberMaster//Event Calendar 2.0//EN
METHOD:PUBLISH
X-PUBLISHED-TTL:P3D
REFRESH-INTERVAL:P3D
CALSCALE:GREGORIAN
BEGIN:VEVENT
DTSTART:20120128T020000Z
DTEND:20120128T040000Z
X-MICROSOFT-CDO-ALLDAYEVENT:FALSE
SUMMARY:Sphere Ensemble Performance
DESCRIPTION:The Sphere Ensemble is Colorado's exciting new chamber ensemble\, freeing itself from the confines of the baton and presenting the power and richness of the string orchestra paired with the intimacy of a string quartet. Sphere Ensemble was formed in 2011 by professional string players who wanted to explore new directions in string ensemble playing. The members of Sphere bring a wealth of musical experiences into the group\, all having classically-based college or conservatory training but possessing a diverse background of musical loves and tastes. Sphere musicians have appeared with groups and musicians ranging from the Colorado Symphony and Boulder Philharmonic\, to Moby and Kanye West\, and nearly every style in between.
X-ALT-DESC;FMTTYPE=text/html:The Sphere Ensemble is Colorado&#39\;s exciting new chamber ensemble\, freeing itself from the confines of the baton and presenting the power and richness of the string orchestra paired with the intimacy of a string quartet. Sphere Ensemble was formed in 2011 by professional string players who wanted to explore new directions in string ensemble playing. The members of Sphere bring a wealth of musical experiences into the group\, all having classically-based college or conservatory training but possessing a diverse background of musical loves and tastes. Sphere musicians have appeared with groups and musicians ranging from the Colorado Symphony and Boulder Philharmonic\, to Moby and Kanye West\, and nearly every style in between. 
LOCATION:Broofmield Audtitorium 3 Community Park Road Broomfield CO 80020
UID:e.641.3141
SEQUENCE:3
DTSTAMP:20260419T205342Z
URL:http://business.broomfieldchamber.com/events/details/sphere-ensemble-performance-01-27-2012-3141
END:VEVENT

END:VCALENDAR
