BEGIN:VCALENDAR
VERSION:2.0
PRODID:-//ChamberMaster//Event Calendar 2.0//EN
METHOD:PUBLISH
X-PUBLISHED-TTL:P3D
REFRESH-INTERVAL:P3D
CALSCALE:GREGORIAN
BEGIN:VEVENT
DTSTART:20101023T170000Z
DTEND:20101023T200000Z
X-MICROSOFT-CDO-ALLDAYEVENT:FALSE
SUMMARY:Spooktacular at the 1stBank Center
DESCRIPTION:The City & County of Broomfield Presents the Spooktacular at the 1stBank Center!\n\nYou'll have an unhauntingly good time! Come in costume!\n\nWe have carnival games\, prizes\, wagon rides\, crafts\, and a trick or treat street.
X-ALT-DESC;FMTTYPE=text/html:<span style="font-size: 12px"><strong>The City &amp\; County of Broomfield Presents the Spooktacular at the 1stBank Center!<br />\nYou&#39\;ll have an unhauntingly good time! Come in costume!<br />\nWe have carnival games\, prizes\, wagon rides\, crafts\, and a trick or treat street.</strong></span>
LOCATION:The 1st Bank Center
UID:e.641.1218
SEQUENCE:3
DTSTAMP:20260420T202631Z
URL:http://business.broomfieldchamber.com/events/details/spooktacular-at-the-1stbank-center-10-23-2010-1218
END:VEVENT

END:VCALENDAR
