BEGIN:VCALENDAR
VERSION:2.0
PRODID:-//ChamberMaster//Event Calendar 2.0//EN
METHOD:PUBLISH
X-PUBLISHED-TTL:P3D
REFRESH-INTERVAL:P3D
CALSCALE:GREGORIAN
BEGIN:VEVENT
DTSTART:20120303T170000Z
DTEND:20120303T180000Z
X-MICROSOFT-CDO-ALLDAYEVENT:FALSE
SUMMARY:Spring Into Health: A Weight Loss Seminar at Living Well Nutrition
DESCRIPTION:Spring Break and Summer are coming fast now!  What are your health goals?  Are you wanting to get bathing suit ready\, but need a little support?\n\n\n\nThen dont miss this robust 1-hour COMPLIMENTARY WEIGHT LOSS SEMINAR!\n\n\n\nYou are going to learn how to get your body into FAT BURNING MODE and finally lose that excess weight and keep it off! Say "no" to fad diets--learn how you can revitalize your own metabolism. Want more energy\, better brain power\, and to regain your vitality?  Learn what foods help to manage stress and enhance brain power.   \n\n\n\nSeating is limited\, so you must register by calling (303) 466-3232 or by going to www.BurnFatBroomfield.com.\n\n\n\n**Attend this Seminar\, and get put into a drawing for a 1-hour Inch-loss\, and Cellulite Reduction Body Wrap!
X-ALT-DESC;FMTTYPE=text/html:<strong>Spring Break and Summer are coming fast now!&nbsp\; What are your health goals?&nbsp\; Are you wanting&nbsp\;to get bathing suit ready\, but need a little support?</strong><br />\n<br />\n<u>Then dont miss this robust 1-hour&nbsp\;COMPLIMENTARY WEIGHT LOSS SEMINAR!</u><br />\n<br />\nYou are going to learn how to get your body into FAT BURNING MODE and finally lose that excess weight and keep it off! Say &quot\;no&quot\; to fad diets--learn how you can revitalize your own metabolism. Want more energy\, better brain power\, and to regain your vitality?&nbsp\; Learn what foods help to manage stress and enhance brain power.&nbsp\; &nbsp\;<br />\n<br />\nSeating is limited\, so you must register by calling (303) 466-3232 or by going to <a href="http://www.BurnFatBroomfield.com">www.BurnFatBroomfield.com</a>.<br />\n<br />\n<strong>**Attend this Seminar\, and get put into a drawing for a 1-hour Inch-loss\, and Cellulite Reduction Body Wrap!&nbsp\; </strong>
LOCATION:54 Garden Center Broomfield\, CO 80020 (Major cross-streets are Hwy. 287 and Midway)
UID:e.641.3494
SEQUENCE:3
DTSTAMP:20260419T175757Z
URL:http://business.broomfieldchamber.com/events/details/spring-into-health-a-weight-loss-seminar-at-living-well-nutrition-03-03-2012-3494
END:VEVENT

END:VCALENDAR
