BEGIN:VCALENDAR
VERSION:2.0
PRODID:-//ChamberMaster//Event Calendar 2.0//EN
METHOD:PUBLISH
X-PUBLISHED-TTL:P3D
REFRESH-INTERVAL:P3D
CALSCALE:GREGORIAN
BEGIN:VEVENT
DTSTART:20260509T190000Z
DTEND:20260509T220000Z
X-MICROSOFT-CDO-ALLDAYEVENT:FALSE
SUMMARY:Spring Open House at Church Ranch Event Center
DESCRIPTION:You are cordially invited to the Church Ranch Event Center Open House on May 9th. We're opening our doors to our valued community of past\, present\, and future clients for an afternoon of networking and event inspiration.\n\nCome see our versatile space in action! From high-end corporate layouts to stunning wedding designs\, we're showcasing the very best of what Church Ranch has to offer. Enjoy appetizers and drinks while connecting with our preferred vendor partners who can help bring your next vision to life.\n\n\n	\n	Date: May 9th\n	\n	\n	Time: 1:00 PM   4:00 PM\n	\n	\n	RSVP: https://events.humanitix.com/churchrancheventcenter
X-ALT-DESC;FMTTYPE=text/html:<p>You are cordially invited to the Church Ranch Event Center Open House on <strong>May 9th</strong>. We&rsquo\;re opening our doors to our valued community of past\, present\, and future clients for an afternoon of networking and event inspiration.</p>\n\n<p>Come see our versatile space in action! From high-end corporate layouts to stunning wedding designs\, we&rsquo\;re showcasing the very best of what Church Ranch has to offer. Enjoy appetizers and drinks while connecting with our preferred vendor partners who can help bring your next vision to life.</p>\n\n<ul>\n	<li>\n	<p><strong>Date:</strong> May 9th</p>\n	</li>\n	<li>\n	<p><strong>Time:</strong> 1:00 PM &ndash\; 4:00 PM</p>\n	</li>\n	<li>\n	<p><strong>RSVP:</strong>&nbsp\;https://events.humanitix.com/churchrancheventcenter</p>\n	</li>\n</ul>\n
LOCATION:Church Ranch Event Center 10200 Wadsworth Blvd\, Westminster\, CO 80021
UID:e.641.29174
SEQUENCE:3
DTSTAMP:20260422T211914Z
URL:http://business.broomfieldchamber.com/events/details/spring-open-house-at-church-ranch-event-center-29174
END:VEVENT

END:VCALENDAR
