BEGIN:VCALENDAR
VERSION:2.0
PRODID:-//ChamberMaster//Event Calendar 2.0//EN
METHOD:PUBLISH
X-PUBLISHED-TTL:P3D
REFRESH-INTERVAL:P3D
CALSCALE:GREGORIAN
BEGIN:VEVENT
DTSTART:20110415T010000Z
DTEND:20110415T030000Z
X-MICROSOFT-CDO-ALLDAYEVENT:FALSE
SUMMARY:Spring Program - Broomfield Academy
DESCRIPTION:Join us at the Broomfield Auditorium for the Broomfield Academy spring program.  Bring the kids and enjoy our play\, singing\, dancing and fun! Open to the public.  Fun for kids ages 4-14! Broomfield Auditorium.  7-9 PM.  Free!  Call (303)469-6449 for information.
X-ALT-DESC;FMTTYPE=text/html:Join us at the Broomfield Auditorium for the Broomfield Academy spring program.  Bring the kids and enjoy our play\, singing\, dancing and fun! Open to the public.  Fun for kids ages 4-14! Broomfield Auditorium.  7-9 PM.  Free!  Call (303)469-6449 for information.
LOCATION:
UID:e.641.1330
SEQUENCE:3
DTSTAMP:20260420T093136Z
URL:http://business.broomfieldchamber.com/events/details/spring-program-broomfield-academy-04-14-2011-1330
END:VEVENT

END:VCALENDAR
