BEGIN:VCALENDAR
VERSION:2.0
PRODID:-//ChamberMaster//Event Calendar 2.0//EN
METHOD:PUBLISH
X-PUBLISHED-TTL:P3D
REFRESH-INTERVAL:P3D
CALSCALE:GREGORIAN
BEGIN:VEVENT
DTSTART:20100406T230000Z
DTEND:20100407T020000Z
X-MICROSOFT-CDO-ALLDAYEVENT:FALSE
SUMMARY:Spring Spectacular to benefit The Mental Health Center Serving Boulder/Broomfield Counti
DESCRIPTION:A dashing cocktail party\, silent auction and accessory fair hosted by the Boulder Country Club benefitting The Mental Health Center Serving Boulder/Broomfield Counties. Tuesday\, April 6th\, 5:00-8:00pm\, at the Boulder Country Club\; Delicious food\, live music\, incredible auction items and great jewelry\, scarves\, cigars for ladies and gents.  For more information call Kristen at 303.413.6287
X-ALT-DESC;FMTTYPE=text/html:<div><span style="font-size: smaller"><span style="font-family: Arial"><span style="color: black"><strong>A </strong></span><strong>dashing cocktail party\, silent auction and accessory fair hosted by the Boulder Country Club benefitting The Mental Health Center Serving Boulder/Broomfield Counties. Tuesday\, April 6<sup>th</sup>\, 5:00-8:00pm\, at the Boulder Country Club\; Delicious food\, live music\, incredible auction items and great jewelry\, scarves\, cigars for ladies and gents.</strong><span class="534344920-15032010">&nbsp\;<strong> For more information call Kristen at</strong>&nbsp\;</span><strong>303.413.6287</strong></span></span></div>
LOCATION:The Boulder Country Club7350 Clubhouse RoadBoulder\, CO 0301303-530-4600
UID:e.641.579
SEQUENCE:3
DTSTAMP:20260421T040953Z
URL:http://business.broomfieldchamber.com/events/details/spring-spectacular-to-benefit-the-mental-health-center-serving-boulder-broomfield-counti-04-06-2010-579
END:VEVENT

END:VCALENDAR
