BEGIN:VCALENDAR
VERSION:2.0
PRODID:-//ChamberMaster//Event Calendar 2.0//EN
METHOD:PUBLISH
X-PUBLISHED-TTL:P3D
REFRESH-INTERVAL:P3D
CALSCALE:GREGORIAN
BEGIN:VEVENT
DTSTART:20120515T230000Z
DTEND:20120516T020000Z
X-MICROSOFT-CDO-ALLDAYEVENT:FALSE
SUMMARY:Springhill Suites Art Night - Spring Series
DESCRIPTION:Our second Art Night event will be a FUN evening of great music by Late Train with visual art presented by professional photographer Jim DeLutes\, known for striking and captivating images.\n\nDave and Buster's is providing complimentary appetizers\, and a cash bar will be available.
X-ALT-DESC;FMTTYPE=text/html:<span style="font-size:16px\;"><span style="font-family: verdana\;">Our second Art Night event will be a FUN evening of great music by Late Train with visual art presented by professional photographer Jim DeLutes\, known for striking and captivating images.<br />\nDave and Buster&#39\;s is providing complimentary appetizers\, and a cash bar will be available.</span></span>
LOCATION:Springhill Suites by Marriott Denver North/Westminster\, 6845 W. 103rd Avenue Westminster\, CO 80021
UID:e.641.4010
SEQUENCE:3
DTSTAMP:20260419T162044Z
URL:http://business.broomfieldchamber.com/events/details/springhill-suites-art-night-spring-series-05-15-2012-4010
END:VEVENT

END:VCALENDAR
