BEGIN:VCALENDAR
VERSION:2.0
PRODID:-//ChamberMaster//Event Calendar 2.0//EN
METHOD:PUBLISH
X-PUBLISHED-TTL:P3D
REFRESH-INTERVAL:P3D
CALSCALE:GREGORIAN
BEGIN:VEVENT
DTSTART;VALUE=DATE:20120317
DTEND;VALUE=DATE:20120318
TRANSP:TRANSPARENT
X-MICROSOFT-CDO-ALLDAYEVENT:TRUE
SUMMARY:St. Patricks Day Concert at Season's Bliss Event Center
DESCRIPTION:Celebrate St. Patricks Day with Season's Bliss and our very first concert event! Featuring 4 local bands\, balloon-popping prizes\, incredible bar\, fireplace with marshmallow roasting\, green beer\, and so much more!\n\n\n\nDoors open at 10 AM.  21 and older. ID's checked at the door. \n\n\n\nReceive a free drink coupon for mentioning the Broomfield Chamber of Commerce at the door.
X-ALT-DESC;FMTTYPE=text/html:<span style="font-family: verdana"><span style="font-size: 16px"><span style="color: #008000"><strong>Celebrate St. Patricks Day with Season&#39\;s Bliss</strong></span> and our very first concert event!&nbsp\;Featuring 4 local bands\, balloon-popping prizes\, incredible bar\, fireplace with marshmallow roasting\, green beer\, and so much more!<br />\n<br />\nDoors open at 10 AM.&nbsp\; 21 and older.&nbsp\;ID&#39\;s checked at the door.&nbsp\;<br />\n<br />\n<span style="color: #008000"><strong>Receive a free drink coupon for mentioning the Broomfield Chamber of Commerce at the door.&nbsp\;</strong></span></span></span> 
LOCATION:665 Flatiron Marketplace Drive\, Broomfield\, CO 80021
UID:e.641.3234
SEQUENCE:3
DTSTAMP:20260419T180831Z
URL:http://business.broomfieldchamber.com/events/details/st-patricks-day-concert-at-season-s-bliss-event-center-03-17-2012-3234
END:VEVENT

END:VCALENDAR
