BEGIN:VCALENDAR
VERSION:2.0
PRODID:-//ChamberMaster//Event Calendar 2.0//EN
METHOD:PUBLISH
X-PUBLISHED-TTL:P3D
REFRESH-INTERVAL:P3D
CALSCALE:GREGORIAN
BEGIN:VEVENT
DTSTART:20110313T020000Z
DTEND:20110313T020000Z
X-MICROSOFT-CDO-ALLDAYEVENT:FALSE
SUMMARY:String Cheese Incident Winter Carnival: With Ivan Neville's Dumpstaphunk
DESCRIPTION:www.myspace.com/stringcheeseincident
X-ALT-DESC;FMTTYPE=text/html:www.myspace.com/stringcheeseincident\n<br>
LOCATION:1STBANK Center
UID:e.641.1301
SEQUENCE:3
DTSTAMP:20260420T110542Z
URL:http://business.broomfieldchamber.com/events/details/string-cheese-incident-winter-carnival-with-ivan-neville-s-dumpstaphunk-03-12-2011-1301
END:VEVENT

END:VCALENDAR
