BEGIN:VCALENDAR
VERSION:2.0
PRODID:-//ChamberMaster//Event Calendar 2.0//EN
METHOD:PUBLISH
X-PUBLISHED-TTL:P3D
REFRESH-INTERVAL:P3D
CALSCALE:GREGORIAN
BEGIN:VEVENT
DTSTART:20110312T020000Z
DTEND:20110312T020000Z
X-MICROSOFT-CDO-ALLDAYEVENT:FALSE
SUMMARY:String Cheese Incident Winter Carnival: With J.D. Crowe & The New South
DESCRIPTION:www.myspace.com/stringcheeseincident
X-ALT-DESC;FMTTYPE=text/html:www.myspace.com/stringcheeseincident\n<br>
LOCATION:1STBANK Center
UID:e.641.1300
SEQUENCE:3
DTSTAMP:20260420T110909Z
URL:http://business.broomfieldchamber.com/events/details/string-cheese-incident-winter-carnival-with-j-d-crowe-the-new-south-03-11-2011-1300
END:VEVENT

END:VCALENDAR
