BEGIN:VCALENDAR
VERSION:2.0
PRODID:-//ChamberMaster//Event Calendar 2.0//EN
METHOD:PUBLISH
X-PUBLISHED-TTL:P3D
REFRESH-INTERVAL:P3D
CALSCALE:GREGORIAN
BEGIN:VEVENT
DTSTART;VALUE=DATE:20110514
DTEND;VALUE=DATE:20110515
TRANSP:TRANSPARENT
X-MICROSOFT-CDO-ALLDAYEVENT:TRUE
SUMMARY:Student Company Contemporary Series featuring Prince Igor
DESCRIPTION:BNC?s Student Company is comprised of 14 dancers\, ages 12-19. These aspiring young artists study dance for over 20 hours per week\, their repertoire including classical ballet\, contemporary ballet\, modern and jazz. This culminating performance showcases these talented dancers with contemporary choreography by Sarah Tallman\, Damien Patterson and Dawn Fay\, and the classic\, Prince Igor\, choreographed by famed Ballet Russes choreographer Michel Fokine.\n\nDate & Time: May 14th at 2pm & 7:30pm
X-ALT-DESC;FMTTYPE=text/html:BNC?s Student Company is comprised of 14 dancers\, ages 12-19. These aspiring young artists study dance for over 20 hours per week\, their repertoire including classical ballet\, contemporary ballet\, modern and jazz. This culminating performance showcases these talented dancers with contemporary choreography by Sarah Tallman\, Damien Patterson and Dawn Fay\, and the classic\, Prince Igor\, choreographed by famed Ballet Russes choreographer Michel Fokine.\n<br>Date &amp\; Time: May 14th at 2pm &amp\; 7:30pm \n<br>
LOCATION:Performing Arts Complex at PCS- 1001 W. 84th Ave. Denver\, CO 80260
UID:e.641.1439
SEQUENCE:3
DTSTAMP:20260420T080338Z
URL:http://business.broomfieldchamber.com/events/details/student-company-contemporary-series-featuring-prince-igor-05-14-2011-1439
END:VEVENT

END:VCALENDAR
