BEGIN:VCALENDAR
VERSION:2.0
PRODID:-//ChamberMaster//Event Calendar 2.0//EN
METHOD:PUBLISH
X-PUBLISHED-TTL:P3D
REFRESH-INTERVAL:P3D
CALSCALE:GREGORIAN
BEGIN:VEVENT
DTSTART;VALUE=DATE:20110511
DTEND;VALUE=DATE:20110512
TRANSP:TRANSPARENT
X-MICROSOFT-CDO-ALLDAYEVENT:TRUE
SUMMARY:Suffer From Stomach Pain and Bowel Problems? Free Health Lecture on IBS
DESCRIPTION:Free Event Sponsored by Buffalo Ridge Medical Center\n\n\n\nAbdominal cramps. Bloating or gas. Constipation. Diarrhea. Up to one in five Americans suffers daily from one or more of these unpleasant symptoms of a condition called Irritable Bowel Syndrome (IBS). This uncomfortable and often embarrassing disorder usually begins when people are in their 20s to 40s. Women are particularly hard hit.\n\n\n\nCome hear a physician expert describe the latest approaches for diagnosing IBS and controlling its symptoms.
X-ALT-DESC;FMTTYPE=text/html:Free Event Sponsored by Buffalo Ridge Medical Center<br />\n<br />\nAbdominal cramps. Bloating or gas. Constipation. Diarrhea. Up to one in five Americans suffers daily from one or more of these unpleasant symptoms of a condition called Irritable Bowel Syndrome (IBS). This uncomfortable and often embarrassing disorder usually begins when people are in their 20s to 40s. Women are particularly hard hit.<br />\n<br />\nCome hear a physician expert describe the latest approaches for diagnosing IBS and controlling its symptoms.<br />\n<br />\n<br />\n
LOCATION:Omni Interlocken Spa & Resort\, 500 Interlocken Blvd.\, Broomfield
UID:e.641.1470
SEQUENCE:3
DTSTAMP:20260420T093508Z
URL:http://business.broomfieldchamber.com/events/details/suffer-from-stomach-pain-and-bowel-problems-free-health-lecture-on-ibs-05-11-2011-1470
END:VEVENT

END:VCALENDAR
