BEGIN:VCALENDAR
VERSION:2.0
PRODID:-//ChamberMaster//Event Calendar 2.0//EN
METHOD:PUBLISH
X-PUBLISHED-TTL:P3D
REFRESH-INTERVAL:P3D
CALSCALE:GREGORIAN
BEGIN:VEVENT
DTSTART;VALUE=DATE:20110620
DTEND;VALUE=DATE:20110731
TRANSP:TRANSPARENT
X-MICROSOFT-CDO-ALLDAYEVENT:TRUE
SUMMARY:Summer Programs at Ballet Nouveau Colorado
DESCRIPTION:Spark a love for dance this summer at the School of BNC! Join us from June 20-July 30 for fun programs for all ages. Programs include pre-school ballet\, fairytale ballet Camp\, intermediate and beginning ballet for all ages\, adult dance and fitness\, and much more! Find us on the web at bncdance.com/school\, or for more information email us at info@bncdance.com or feel free to call at 303.466.5685.
X-ALT-DESC;FMTTYPE=text/html:Spark a love for dance this summer at the School of BNC! Join us from June 20-July 30 for fun programs for all ages. Programs include pre-school ballet\, fairytale ballet Camp\, intermediate and beginning ballet for all ages\, adult dance and fitness\, and much more! Find us on the web at bncdance.com/school\, or for more information email us at info@bncdance.com or feel free to call at 303.466.5685. 
LOCATION:The School of BNC
UID:e.641.1442
SEQUENCE:3
DTSTAMP:20260420T050659Z
URL:http://business.broomfieldchamber.com/events/details/summer-programs-at-ballet-nouveau-colorado-06-20-2011-1442
END:VEVENT

END:VCALENDAR
