BEGIN:VCALENDAR
VERSION:2.0
PRODID:-//ChamberMaster//Event Calendar 2.0//EN
METHOD:PUBLISH
X-PUBLISHED-TTL:P3D
REFRESH-INTERVAL:P3D
CALSCALE:GREGORIAN
BEGIN:VEVENT
DTSTART:20120309T181500Z
DTEND:20120309T194500Z
X-MICROSOFT-CDO-ALLDAYEVENT:FALSE
SUMMARY:Team National Business Owners Overview
DESCRIPTION:This fabulous event is superb for B-B networking! We meet & greet from 11-11:30 then show a brief presentation to educate business owners as to how they can increase revenue & decrease overhead on a regular basis in 2012 and beyond! Please be prepared to share your 60 second commercial if you'd like\, and plenty of business cards too as we generally see 30+ business owners at this location!
X-ALT-DESC;FMTTYPE=text/html:This fabulous event is superb for B-B networking! We meet &amp\; greet from 11-11:30 then show a brief presentation to educate business owners as to how they can increase revenue &amp\; decrease overhead on a regular basis in 2012 and beyond! Please be prepared to share your 60 second commercial if you&#39\;d like\, and plenty of business cards too as we generally see 30+ business owners at this location!
LOCATION:1424 S. Wadsworth Blvd. Lakewood\, CO 80232
UID:e.641.3634
SEQUENCE:3
DTSTAMP:20260419T193536Z
URL:http://business.broomfieldchamber.com/events/details/team-national-business-owners-overview-03-09-2012-3634
END:VEVENT

END:VCALENDAR
