BEGIN:VCALENDAR
VERSION:2.0
PRODID:-//ChamberMaster//Event Calendar 2.0//EN
METHOD:PUBLISH
X-PUBLISHED-TTL:P3D
REFRESH-INTERVAL:P3D
CALSCALE:GREGORIAN
BEGIN:VEVENT
DTSTART:20120307T013000Z
DTEND:20120307T030000Z
X-MICROSOFT-CDO-ALLDAYEVENT:FALSE
SUMMARY:Team National Networking/Overview
DESCRIPTION:We are very excited about this fantastic event as it is a wonderful experience for both Team National members and guests alike! You will get the opportunity to meet 75+ friendly new faces who are positively fired up about the future! We will be sure to introduce you around so bring your business cards! You will learn how to make more money in 2012 as well as how to save money at home & at the office. Afterwards a bunch of us go out for wings\, so if you're looking for an upbeat evening please join us!
X-ALT-DESC;FMTTYPE=text/html:<div>\n	We are very excited about this fantastic event as it is a wonderful experience for both Team National members and guests alike! You will get the opportunity to meet 75+ friendly new faces who are positively fired up&nbsp\;about the future! We will be sure to introduce you around so bring your business cards! You will learn how to make more money in 2012 as well as how to&nbsp\;save money at home &amp\; at the office. Afterwards a bunch of us go out for wings\, so if you&#39\;re looking for an upbeat evening please join us!</div>\n
LOCATION:9660 Ralston Road Arvada\, CO 80004
UID:e.641.3633
SEQUENCE:3
DTSTAMP:20260419T174936Z
URL:http://business.broomfieldchamber.com/events/details/team-national-networking-overview-03-06-2012-3633
END:VEVENT

END:VCALENDAR
