BEGIN:VCALENDAR
VERSION:2.0
PRODID:-//ChamberMaster//Event Calendar 2.0//EN
METHOD:PUBLISH
X-PUBLISHED-TTL:P3D
REFRESH-INTERVAL:P3D
CALSCALE:GREGORIAN
BEGIN:VEVENT
DTSTART:20111122T183000Z
DTEND:20111122T200000Z
X-MICROSOFT-CDO-ALLDAYEVENT:FALSE
SUMMARY:THANK YOU LUNCHEON at TEDS
DESCRIPTION:
X-ALT-DESC;FMTTYPE=text/html:
LOCATION:
UID:e.641.3100
SEQUENCE:3
DTSTAMP:20260420T005422Z
URL:http://business.broomfieldchamber.com/events/details/thank-you-luncheon-at-teds-11-22-2011-3100
END:VEVENT

END:VCALENDAR
