BEGIN:VCALENDAR
VERSION:2.0
PRODID:-//ChamberMaster//Event Calendar 2.0//EN
METHOD:PUBLISH
X-PUBLISHED-TTL:P3D
REFRESH-INTERVAL:P3D
CALSCALE:GREGORIAN
BEGIN:VEVENT
DTSTART:20120626T003000Z
DTEND:20120626T023000Z
X-MICROSOFT-CDO-ALLDAYEVENT:FALSE
SUMMARY:The 4-hour workweek - Myth vs. Reality
DESCRIPTION:In 2007 Tim Ferriss published "The 4-Hour Workweek: Escape 9-5\, Live Anywhere\, and Join the New Rich." Thousands of people followed the plan as discussed in this book\, many changing their lives for the better.\n\n\n\nJoin us at DaVinci Labs as we explore the progress of people who have followed the 4-hour workweek program\, and where these people are today\, 5 years after Tim Ferriss published his book.\n\n\n\nAre web businesses as described in "The 4-Hour Workweek" still a viable source of income. Is offshoring many of the daily errands and particulars of our daily lives still a possibility? How have followers of the program made it work to augment careers or even begin new lifestyles they never thought possible before reading this book?\n\n\n\nLeading the discussion will be Peter Adams\, who picked up "The 4-Hour Workweek" in 2009. Mr. Adams will share how he made "The 4-Hour Workweek" into a revenue stream that augments his career and what he has changed in his personal program over the last three years. We will be discussing the benefits and pitfalls of web based businesses\, working with offshore providers of services and product\, and how you can make the 4-hour workweek a reality in your life.\n\n\n\nCost: Free (suggested donation: $10)
X-ALT-DESC;FMTTYPE=text/html:In 2007 Tim Ferriss published &ldquo\;The 4-Hour Workweek: Escape 9-5\, Live Anywhere\, and Join the New Rich.&rdquo\; Thousands of people followed the plan as discussed in this book\, many changing their lives for the better.<br />\n<br />\nJoin us at DaVinci Labs as we explore the progress of people who have followed the 4-hour workweek program\, and where these people are today\, 5 years after Tim Ferriss published his book.<br />\n<br />\nAre web businesses as described in &ldquo\;The 4-Hour Workweek&rdquo\; still a viable source of income. Is offshoring many of the daily errands and particulars of our daily lives still a possibility? How have followers of the program made it work to augment careers or even begin new lifestyles they never thought possible before reading this book?<br />\n<br />\nLeading the discussion will be Peter Adams\, who picked up &ldquo\;The 4-Hour Workweek&rdquo\; in 2009. Mr. Adams will share how he made &ldquo\;The 4-Hour Workweek&rdquo\; into a revenue stream that augments his career and what he has changed in his personal program over the last three years. We will be discussing the benefits and pitfalls of web based businesses\, working with offshore providers of services and product\, and how you can make the 4-hour workweek a reality in your life.<br />\n<br />\n<strong>Cost:</strong> Free (suggested donation: $10)
LOCATION:DaVinci Institute\, 511 E. South Boulder Road\, Louisville\, CO 80027
UID:e.641.4251
SEQUENCE:3
DTSTAMP:20260419T144304Z
URL:http://business.broomfieldchamber.com/events/details/the-4-hour-workweek-myth-vs-reality-06-25-2012-4251
END:VEVENT

END:VCALENDAR
