BEGIN:VCALENDAR
VERSION:2.0
PRODID:-//ChamberMaster//Event Calendar 2.0//EN
METHOD:PUBLISH
X-PUBLISHED-TTL:P3D
REFRESH-INTERVAL:P3D
CALSCALE:GREGORIAN
BEGIN:VEVENT
DTSTART:20111015T233000Z
DTEND:20111016T053000Z
X-MICROSOFT-CDO-ALLDAYEVENT:FALSE
SUMMARY:The Dandelion Ball - Spreading the Seeds of Mental Health
DESCRIPTION:Normal\n  0\n  \n  \n  false\n  false\n  false\n  \n   \n   \n   \n   \n   \n  \n  MicrosoftInternetExplorer4\n \n\n \n \n\n\n\n\n\n /* Style Definitions */\n table.MsoNormalTable\n	{mso-style-name:"Table Normal"\;\n	mso-tstyle-rowband-size:0\;\n	mso-tstyle-colband-size:0\;\n	mso-style-noshow:yes\;\n	mso-style-parent:""\;\n	mso-padding-alt:0in 5.4pt 0in 5.4pt\;\n	mso-para-margin:0in\;\n	mso-para-margin-bottom:.0001pt\;\n	mso-pagination:widow-orphan\;\n	font-size:10.0pt\;\n	font-family:"Times New Roman"\;\n	mso-ansi-language:#0400\;\n	mso-fareast-language:#0400\;\n	mso-bidi-language:#0400\;}\n\n\n\n	Mark your calendar!  On Saturday\, October 15\, 2011\, Mental Health Partners Foundation and Mental Health Partners will host the sixth annual Dandelion Ball - Spreading the Seeds of Mental Health. This benefit gala features a gourmet dinner\, cocktails\, silent/live auctions\, and fabulous live music by Hazel Miller Band\, Colorado's sought after performer for the past 24 years\; Whether she is singing blues\, jazz\, or pop\, her voice charges the songs with a primal dose of genuine soul. Tickets are $125 each.  For tickets or more information\, contact Kristen Tucker\, Events Coordinator\, ktucker@mhpcolorado.org or 303-413-6287.
X-ALT-DESC;FMTTYPE=text/html:<meta content="text/html\; charset=utf-8" http-equiv="Content-Type" />\n<meta content="Word.Document" name="ProgId" />\n<meta content="Microsoft Word 11" name="Generator" />\n<meta content="Microsoft Word 11" name="Originator" />\n<link href="file:///C:%5CDOCUME%7E1%5Cktucker%5CLOCALS%7E1%5CTemp%5Cmsohtml1%5C01%5Cclip_filelist.xml" rel="File-List" />\n<!--[if gte mso 9]><xml>\n <w:WordDocument>\n  <w:View>Normal</w:View>\n  <w:Zoom>0</w:Zoom>\n  <w:PunctuationKerning/>\n  <w:ValidateAgainstSchemas/>\n  <w:SaveIfXMLInvalid>false</w:SaveIfXMLInvalid>\n  <w:IgnoreMixedContent>false</w:IgnoreMixedContent>\n  <w:AlwaysShowPlaceholderText>false</w:AlwaysShowPlaceholderText>\n  <w:Compatibility>\n   <w:BreakWrappedTables/>\n   <w:SnapToGridInCell/>\n   <w:WrapTextWithPunct/>\n   <w:UseAsianBreakRules/>\n   <w:DontGrowAutofit/>\n  </w:Compatibility>\n  <w:BrowserLevel>MicrosoftInternetExplorer4</w:BrowserLevel>\n </w:WordDocument>\n</xml><![endif]--><!--[if gte mso 9]><xml>\n <w:LatentStyles DefLockedState="false" LatentStyleCount="156">\n </w:LatentStyles>\n</xml><![endif]-->\n<style type="text/css">\n<!--\n /* Font Definitions */\n @font-face\n	{font-family:Latha\;\n	panose-1:2 0 4 0 0 0 0 0 0 0\;\n	mso-font-charset:0\;\n	mso-generic-font-family:auto\;\n	mso-font-pitch:variable\;\n	mso-font-signature:1048579 0 0 0 1 0\;}\n@font-face\n	{font-family:Calibri\;\n	panose-1:2 15 5 2 2 2 4 3 2 4\;\n	mso-font-charset:0\;\n	mso-generic-font-family:swiss\;\n	mso-font-pitch:variable\;\n	mso-font-signature:-1610611985 1073750139 0 0 159 0\;}\n /* Style Definitions */\n p.MsoNormal\, li.MsoNormal\, div.MsoNormal\n	{mso-style-parent:""\;\n	margin-top:0in\;\n	margin-right:0in\;\n	margin-bottom:10.0pt\;\n	margin-left:0in\;\n	line-height:115%\;\n	mso-pagination:widow-orphan\;\n	font-size:11.0pt\;\n	font-family:Calibri\;\n	mso-fareast-font-family:Calibri\;\n	mso-bidi-font-family:"Times New Roman"\;}\n@page Section1\n	{size:8.5in 11.0in\;\n	margin:1.0in 1.25in 1.0in 1.25in\;\n	mso-header-margin:.5in\;\n	mso-footer-margin:.5in\;\n	mso-paper-source:0\;}\ndiv.Section1\n	{page:Section1\;}\n--></style>\n<!--[if gte mso 10]>\n<style>\n /* Style Definitions */\n table.MsoNormalTable\n	{mso-style-name:"Table Normal"\;\n	mso-tstyle-rowband-size:0\;\n	mso-tstyle-colband-size:0\;\n	mso-style-noshow:yes\;\n	mso-style-parent:""\;\n	mso-padding-alt:0in 5.4pt 0in 5.4pt\;\n	mso-para-margin:0in\;\n	mso-para-margin-bottom:.0001pt\;\n	mso-pagination:widow-orphan\;\n	font-size:10.0pt\;\n	font-family:"Times New Roman"\;\n	mso-ansi-language:#0400\;\n	mso-fareast-language:#0400\;\n	mso-bidi-language:#0400\;}\n</style>\n<![endif]-->\n<p class="MsoNormal">\n	<span style="font-size: 11.5pt\; line-height: 115%\; font-family: Latha\;">Mark your calendar!<span style="">&nbsp\; </span>On Saturday\, October 15\, 2011\, Mental Health Partners Foundation and Mental Health Partners will host the sixth annual </span><b style=""><span style="font-size: 13pt\; line-height: 115%\; font-family: Latha\;">Dandelion Ball - Spreading the Seeds of Mental Health</span></b><b style=""><i style=""><span style="font-size: 11.5pt\; line-height: 115%\; font-family: Latha\;">. </span></i></b><span style="font-size: 11.5pt\; line-height: 115%\; font-family: Latha\;">This benefit gala features a gourmet dinner\, cocktails\, silent/live auctions\, and fabulous live music by <i style="">Hazel Miller Band\, </i>Colorado&rsquo\;s sought after performer for the past 24 years\; Whether she is singing blues\, jazz\, or pop\, her voice charges the songs with a primal dose of genuine soul. </span><span style="font-family: Latha\; color: rgb(78\, 9\, 35)\;">Tickets are $125 each.<span style="">&nbsp\; </span>For tickets or more information\, contact Kristen Tucker\, Events Coordinator\, ktucker@mhpcolorado.org or 303-413-6287.</span><span style="font-size: 11.5pt\; line-height: 115%\; font-family: Latha\;"><o:p></o:p></span></p>\n
LOCATION:The Stadium Club/Colorado University Folsom Field Athletic Building/UCB 372 Boulder CO 80309
UID:e.641.2911
SEQUENCE:3
DTSTAMP:20260420T011034Z
URL:http://business.broomfieldchamber.com/events/details/the-dandelion-ball-spreading-the-seeds-of-mental-health-10-15-2011-2911
END:VEVENT

END:VCALENDAR
