BEGIN:VCALENDAR
VERSION:2.0
PRODID:-//ChamberMaster//Event Calendar 2.0//EN
METHOD:PUBLISH
X-PUBLISHED-TTL:P3D
REFRESH-INTERVAL:P3D
CALSCALE:GREGORIAN
BEGIN:VEVENT
DTSTART:20110719T000000Z
DTEND:20110729T013000Z
X-MICROSOFT-CDO-ALLDAYEVENT:FALSE
SUMMARY:The Five Year Pre-Retirement Plan
DESCRIPTION:Thinking of retiring in the next five to six years?  Now is the time to create the vision - emotionally and financially - for what retirement will be like.  Sure\, it's important to estimate financial resources\, but those are impacted by several different factors.  Refreshments will be served.  RSVP at 303-426-6444.
X-ALT-DESC;FMTTYPE=text/html:Thinking of retiring in the next five to six years?&nbsp\; Now is the time to create the vision - emotionally and financially - for what retirement will be like.&nbsp\; Sure\, it&#39\;s important to estimate financial resources\, but those are impacted by several different factors.&nbsp\; Refreshments will be served.&nbsp\; RSVP at 303-426-6444.
LOCATION:10875 Dover Street\, Suite 400\, Westminster\, CO 80023
UID:e.641.2863
SEQUENCE:3
DTSTAMP:20260420T050526Z
URL:http://business.broomfieldchamber.com/events/details/the-five-year-pre-retirement-plan-07-18-2011-2863
END:VEVENT

END:VCALENDAR
