BEGIN:VCALENDAR
VERSION:2.0
PRODID:-//ChamberMaster//Event Calendar 2.0//EN
METHOD:PUBLISH
X-PUBLISHED-TTL:P3D
REFRESH-INTERVAL:P3D
CALSCALE:GREGORIAN
BEGIN:VEVENT
DTSTART:20111022T160000Z
DTEND:20111210T183000Z
X-MICROSOFT-CDO-ALLDAYEVENT:FALSE
SUMMARY:The IHC Presents: A Mindful Parenting Psycho-Education Group
DESCRIPTION:This is an 8 week group to aid parents with children ages 1-12 in creating healthy parent/child relationships and healthy child/world relationships.\n\n\n\nThis is a supportive setting where you can:\n\n- begin to effectively provide consistent and mindful responses to \n\n  your children\n\n- learn strategies to cope more effectively with anxiety and        \n\n  depression brought up by your child\n\n- relate to and learn from others with similar issues with their\n\n  children\n\n- learn to set more consistent boundaries with your child\n\n- understand how our thoughts\, feelings and behaviors influence\n\n  each other and affect the parent/child relationship\n\n\n\nWho:  Adult parents who have children ages 1-12 years\n\n\n\nWhere:  The Interpersonal Healing Clinic\, 1106 Depot Hill Rd.\, Ste E\, Broomfield\, CO 80020\n\n\n\nWhen:  Every Saturday 10-1130am\; Due to start October 22 to December 10\, 2011\n\n\n\nPrice:  $50 per session and $375 if paid in full by the first meeting\, which includes handouts and homework materials \n\n\n\nIf interested\, please call\n\nAmy Grauberger\, M.A.\n\n970-396-7974\n\namygrauberger@yahoo.com
X-ALT-DESC;FMTTYPE=text/html:This is an 8 week group to aid parents with children ages 1-12 in creating healthy parent/child relationships and healthy child/world relationships.<br />\n<br />\nThis is a supportive setting where you can:<br />\n- begin to effectively provide consistent and mindful responses to&nbsp\;<br />\n&nbsp\; your children<br />\n- learn strategies to cope more effectively with anxiety and&nbsp\;&nbsp\;&nbsp\;&nbsp\;&nbsp\;&nbsp\;&nbsp\;&nbsp\;<br />\n&nbsp\; depression brought up by your child<br />\n- relate to and learn from others with similar issues with their<br />\n&nbsp\; children<br />\n- learn to set more consistent boundaries with your child<br />\n- understand how our thoughts\, feelings and behaviors influence<br />\n&nbsp\; each other and affect the parent/child relationship<br />\n<br />\nWho:&nbsp\; Adult parents who have children ages 1-12 years<br />\n<br />\nWhere:&nbsp\; The Interpersonal Healing Clinic\, 1106 Depot Hill Rd.\, Ste E\, Broomfield\, CO 80020<br />\n<br />\nWhen:&nbsp\; Every Saturday 10-1130am\; Due to start October 22 to December 10\, 2011<br />\n<br />\nPrice:&nbsp\; $50 per session and $375 if paid in full by the first meeting\, which includes handouts and homework materials&nbsp\;<br />\n<br />\nIf interested\, please call<br />\nAmy Grauberger\, M.A.<br />\n970-396-7974<br />\namygrauberger@yahoo.com
LOCATION:The Interpersonal Healing Clinic\, 1106 Depot Hill Rd.\, Ste E\, Broomfield\, CO 80020
UID:e.641.3081
SEQUENCE:3
DTSTAMP:20260419T222947Z
URL:http://business.broomfieldchamber.com/events/details/the-ihc-presents-a-mindful-parenting-psycho-education-group-10-22-2011-3081
END:VEVENT

END:VCALENDAR
