BEGIN:VCALENDAR
VERSION:2.0
PRODID:-//ChamberMaster//Event Calendar 2.0//EN
METHOD:PUBLISH
X-PUBLISHED-TTL:P3D
REFRESH-INTERVAL:P3D
CALSCALE:GREGORIAN
BEGIN:VEVENT
DTSTART:20110403T010000Z
DTEND:20110403T040000Z
X-MICROSOFT-CDO-ALLDAYEVENT:FALSE
SUMMARY:The Nacho Men Concert at The Event Center at Church Ranch
DESCRIPTION:On Saturday April 2\, The Nacho Men are performing at The Event Center at Church Ranch from 7-10 pm.  Doors open at 5:30.  Cost is $7 at the door.\n\n\n\nGo to The Event Center at Church Ranch's Facebook page and hit ''Like'' to qualify for a free drink at the concert.  Or you can go the www.EventsAtCR.com and sign up for our mailing list and receive a free drink coupon via email.\n\n\n\nEnjoy a great night of dance\, comedy\, rock and classic music\, along with a free drink on us!  Take a romantic walk thru our outdoor pathways enjoying our romantic waterfalls and fountains!
X-ALT-DESC;FMTTYPE=text/html:On Saturday April 2\, The Nacho Men are performing at The Event Center at Church Ranch from 7-10 pm.  Doors open at 5:30.  Cost is $7 at the door.\n<br>\n<br>Go to The Event Center at Church Ranch's Facebook page and hit ''Like'' to qualify for a free drink at the concert.  Or you can go the www.EventsAtCR.com and sign up for our mailing list and receive a free drink coupon via email.\n<br>\n<br>Enjoy a great night of dance\, comedy\, rock and classic music\, along with a free drink on us!  Take a romantic walk thru our outdoor pathways enjoying our romantic waterfalls and fountains!
LOCATION:10200 Wadsworth Blvd Westminster\, CO 80021
UID:e.641.1404
SEQUENCE:3
DTSTAMP:20260420T093913Z
URL:http://business.broomfieldchamber.com/events/details/the-nacho-men-concert-at-the-event-center-at-church-ranch-04-02-2011-1404
END:VEVENT

END:VCALENDAR
